BEGIN:VCALENDAR
VERSION:2.0
PRODID:-//Tukios.com/
BEGIN:VEVENT
UID:e3042d82-4e2b-44ac-960d-81e38ee013c8@www.thomasmsullivanfuneralhome.com
DTSTAMP:20260422T165049Z
DTSTART:20260427T153000Z
DTEND:20260427T163000Z
SUMMARY:Mass
DESCRIPTION:
URL:https://www.thomasmsullivanfuneralhome.com/obituaries/diane-hayek
LOCATION: 49 N. Line Street  Frackville PA 17931
GEO:40.7874789;-76.2276404
END:VEVENT
END:VCALENDAR