BEGIN:VCALENDAR
VERSION:2.0
PRODID:-//Tukios.com/
BEGIN:VEVENT
UID:71e715a5-6a88-41d4-bbb9-d9dc037348a3@www.thomasmsullivanfuneralhome.com
DTSTAMP:20260422T164318Z
DTSTART:20260427T133000Z
DTEND:20260427T153000Z
SUMMARY:Viewing
DESCRIPTION:
URL:https://www.thomasmsullivanfuneralhome.com/obituaries/diane-hayek
LOCATION: 49 N. Line Street  Frackville PA 17931
GEO:40.7874789;-76.2276404
END:VEVENT
END:VCALENDAR